BEGIN:VCALENDAR
VERSION:2.0
PRODID:-//eventon.com NONSGML v1.0//EN
BEGIN:VEVENT
UID:69e5d841d9dea
DTSTAMP:20260420T093945
DTSTART:20210123T113000Z
DTEND:20210124T063000Z
LOCATION:Sologne Karting - Salbris Rn20 41300 Salbris
SUMMARY:Pour bien débuter sa saison 2021
DESCRIPTION: Kartagène organise Pour bien débuter sa saison 2021 Programme Préparation Hivernale Déroulement du programme de formation : Ce programme est composé de deux parties sur une période allant de novembre à février : > Une partie présentation du programme\,  tests physiques et bio-informationnels (1/2 journée) > Une partie formation avec[..]
END:VEVENT
END:VCALENDAR